BEGIN:VCALENDAR
VERSION:2.0
PRODID:-//Greater Giving Blog - ECPv5.16.2.1//NONSGML v1.0//EN
CALSCALE:GREGORIAN
METHOD:PUBLISH
X-ORIGINAL-URL:https://blog.greatergiving.com
X-WR-CALDESC:Events for Greater Giving Blog
REFRESH-INTERVAL;VALUE=DURATION:PT1H
X-Robots-Tag:noindex
X-PUBLISHED-TTL:PT1H
BEGIN:VTIMEZONE
TZID:America/Los_Angeles
BEGIN:DAYLIGHT
TZOFFSETFROM:-0800
TZOFFSETTO:-0700
TZNAME:PDT
DTSTART:20240310T100000
END:DAYLIGHT
BEGIN:STANDARD
TZOFFSETFROM:-0700
TZOFFSETTO:-0800
TZNAME:PST
DTSTART:20241103T090000
END:STANDARD
END:VTIMEZONE
BEGIN:VEVENT
DTSTART;TZID=America/Los_Angeles:20240917T083000
DTEND;TZID=America/Los_Angeles:20240917T150000
DTSTAMP:20260422T150208
CREATED:20230628T221208Z
LAST-MODIFIED:20240731T181511Z
UID:13603-1726561800-1726585200@blog.greatergiving.com
SUMMARY:Raising Paddles: All Things Gala Seminar - Tulsa\, OK
DESCRIPTION:Raising Paddles offers a unique approach to providing educational sessions on fundraising strategies for your next gala or golf outing. This event is run just like a gala\, starting with a cocktail hour with morning mimosas\, a silent auction and entertainment\, a delicious sit-down lunch\, and then a mock fundraising program so you can see best practices in motion to replicate at YOUR next event. Along the way we will provide valuable sessions on topics such as donor development strategies\, making the ask\, and enhancing the guest experience\, etc. \nWe will demonstrate a live auction and a paddle raise\, along with other innovative revenue enhancing strategies that will help keep your event fresh each and every year. \nThe silent and live auction\, along with raffles will be stocked with valuable prizes you can win by using “play money” we hand out to you to make it fun and engaging. Many attendees will take prizes as valuable as $5\,000 home to use at their next gala! Please see a list of our sponsors in a separate section\, who will provide these prizes for you to win! \nCome Join Us! A fun day of learning\, a chance to win some amazing prizes\, and a chance to network with other similar organizations as you strive to maximize fundraising at your next event! \nPlease check out the Agenda Page for more details on the schedule for the day.
URL:https://blog.greatergiving.com/event/raising-paddles-all-things-gala-seminar-tulsa-ok/
LOCATION:Tulsa Club Hotel – Sky Terrace\, 115 East 5th Street\, Tulsa\, OK\, 74103\, United States
CATEGORIES:Seminar
ATTACH;FMTTYPE=image/jpeg:https://blog.greatergiving.com/wp-content/uploads/2023/06/F8CF25DE-173D-403A-8D6F-E6AAE01E8CC0.jpg
END:VEVENT
BEGIN:VEVENT
DTSTART;VALUE=DATE:20240918
DTEND;VALUE=DATE:20240920
DTSTAMP:20260422T150208
CREATED:20240213T181759Z
LAST-MODIFIED:20240213T181759Z
UID:14269-1726617600-1726790399@blog.greatergiving.com
SUMMARY:NIO Summit 2024
DESCRIPTION:Join a passionate community of likeminded people in Indianapolis\, Sep. 18-19\, for the nonprofit industry’s premier digital fundraising event! \n  \n\n\n3 Reasons Why You Don’t Want To Miss NIO Summit 2024\n\n\n\n\n\n\n\n\nPractical\, Actionable\, Data-Informed Content\n\n\n\n\nUnforgettable speakers presenting clear and focused content with robust\, practical examples. Last year’s speakers included Ann Handley\, Joanna Weibe\, and Carlos Whittaker! \n\n\n\n\n\n\n\n\n\n\n\n\nA Passionate Community Of Likeminded People\n\n\n\n\nYou belong here. NIO Summit is where the nonprofit industry comes together to build connections and share new and exciting ideas. You’ll leave NIO with actionable strategies and a new network of lifelong relationships! \n\n\n\n\n\n\n\n\n\n\n\n\nAn Electric\, Immersive\, And Unforgettably Fun Nonprofit Experience\n\n\n\n\nThe most fun you’ll ever have at a professional event. From live workshops\, 1:1 consults\, conference parties\, prizes\, swag\, and more\, you will leave NIO energized\, focused\, and inspired to champion your cause!
URL:https://blog.greatergiving.com/event/nio-summit-2024/
LOCATION:Old National Center\, 502 N New Jersey St\, Indianapolis\, IN\, 46204\, United States
CATEGORIES:Conferences & Trade Shows
ATTACH;FMTTYPE=image/png:https://blog.greatergiving.com/wp-content/uploads/2024/02/Frame.png
END:VEVENT
BEGIN:VEVENT
DTSTART;VALUE=DATE:20240920
DTEND;VALUE=DATE:20240921
DTSTAMP:20260422T150208
CREATED:20230523T180017Z
LAST-MODIFIED:20240718T215527Z
UID:13484-1726790400-1726876799@blog.greatergiving.com
SUMMARY:Rocky Mountain Philanthropy Institute 2024
DESCRIPTION:We are proud to once again be part of the Rocky Mountain Philanthropy Institute. (RMPI) is AFP Colorado’s annual conference dedicated to bringing Colorado nonprofit leaders and learners together to grow\, network\, and impact change. \nThis year’s theme is “A.I. Doing This Right?” and will explore the opportunities and challenges of incorporating artificial intelligence into nonprofit work.\n\nEthical considerations for using A.I. technologies\nLeveraging A.I. for fundraising\, marketing\, and operations\nCase studies of nonprofits successfully implementing A.I.\n\nDon’t miss this chance to learn how to harness the power of A.I. responsibly to drive impact for your organization.\nRegistration Cost: $149 (AFP members)\, $169 (nonmembers)\nEarly Bird Registration Deadline: August 9th ($139 members\, $149 nonmembers)\nStop by the Greater Giving table and visit with Grant. Enter our drawing for $100 to be donated to your nonprofit and win a copy of our 26 Revenue Enhancers book.
URL:https://blog.greatergiving.com/event/rocky-mountain-philanthropy-institute-2023/
LOCATION:UCAR Center Green Campus\, 3090 Center Green Dr\, Boulder\, CO\, 80301\, United States
CATEGORIES:Conferences & Trade Shows,Seminar
ATTACH;FMTTYPE=image/png:https://blog.greatergiving.com/wp-content/uploads/2023/05/RMPI_Icon_No_Year_2024.png
END:VEVENT
BEGIN:VEVENT
DTSTART;TZID=America/Los_Angeles:20240925T110000
DTEND;TZID=America/Los_Angeles:20240925T120000
DTSTAMP:20260422T150208
CREATED:20240228T235953Z
LAST-MODIFIED:20240513T203124Z
UID:14336-1727262000-1727265600@blog.greatergiving.com
SUMMARY:WEBINAR: Creating Buzz and Bids with Powerful Auction Videos
DESCRIPTION:Join Greater Giving and Erin Kienzle\, Video Marketing Coach at Giving4Good\, to learn how to leverage the power of short-form videos\, in two ways – marketing on social media\, and marketing live on stage at the fundraiser. \nPick up tips on how to create a buzz on social media through a four-part “hype method”. This method demonstrates how to create unique short form videos that highlight auction items leading up to your event. Then we’ll move to the night of the fundraiser. You’ll see how your organization can strategically use video to capture the attention of the room\, highlighting each auction item and driving higher bids from the audience. \nLearning Objectives: \n\nLearn how to create a buzz on social media using video marketing through a four-part method\nUnderstand how to strategically use video to capture the attention of you audience at the event\nGain knowledge on what parts of the auction item to capture in video\, and how
URL:https://blog.greatergiving.com/event/webinar-creating-buzz-and-bids-with-powerful-auction-videos/
LOCATION:Webinar\, Online
CATEGORIES:Webinar
ATTACH;FMTTYPE=image/png:https://blog.greatergiving.com/wp-content/uploads/2024/02/Untitled-design-25.png
END:VEVENT
BEGIN:VEVENT
DTSTART;TZID=America/Los_Angeles:20240927T093000
DTEND;TZID=America/Los_Angeles:20240927T170000
DTSTAMP:20260422T150208
CREATED:20240801T165828Z
LAST-MODIFIED:20240801T165951Z
UID:14753-1727429400-1727456400@blog.greatergiving.com
SUMMARY:South Sound Philanthropy Summit
DESCRIPTION:12th Annual\nSOUTH SOUND PHILANTHROPY SUMMIT\nWe can’t wait to see you in-person at the 12th Annual South Sound Philanthropy Summit! \nSEPTEMBER 27\, 2024 (IN-PERSON ONLY)\n2024 CE Credits – pending \nRegistration: 9:30 am\nProgram: 10:00am to 3:00pm\nHappy Hour: 3:00-5:00pm \nLocations:\nEvent: UW Tacoma\, William Philip Hall\, 1918 Pacific Ave Tacoma\, WA 98402\nHappy Hour: 7 Seas Brewery\, 2101 Jefferson Ave\, Tacoma\, WA 98402 \n\n\n\n\nFormat:\nTo facilitate true connection and networking\, the Summit will be in-person only. Lunch is included. \nFollowing the Summit will be an in-person no-host happy hour from 3:00-5:00pm at the same location. \nIs this conference for you?\nThe Philanthropy Summit traditionally brings together approximately 150+ plus professionals representing all aspects of the philanthropic community including nonprofits\, foundations\, and allied professionals in the financial\, legal\, and accounting arenas. The conference will provide inspiration\, new ideas\, valuable connections\, fun and fellowship for all attendees. \nCo-Presented by: The top two premier South Sound professional associations\, South Sound Planned Giving Council and the Association of Fundraising Professionals – South Sound Chapter.
URL:https://blog.greatergiving.com/event/south-sound-philanthropy-summit/
LOCATION:UW Tacoma\, William Philip Hall\,\, 1918 Pacific Ave\, Tacoma\, WA\, 98402\, United States
CATEGORIES:Conferences & Trade Shows
ATTACH;FMTTYPE=image/png:https://blog.greatergiving.com/wp-content/uploads/2024/08/2024_SSP-Summit_Web-Slider-Logo-1030x384-1.png
END:VEVENT
END:VCALENDAR