BEGIN:VCALENDAR
VERSION:2.0
PRODID:-//Greater Giving Blog - ECPv5.16.2.1//NONSGML v1.0//EN
CALSCALE:GREGORIAN
METHOD:PUBLISH
X-WR-CALNAME:Greater Giving Blog
X-ORIGINAL-URL:https://blog.greatergiving.com
X-WR-CALDESC:Events for Greater Giving Blog
REFRESH-INTERVAL;VALUE=DURATION:PT1H
X-Robots-Tag:noindex
X-PUBLISHED-TTL:PT1H
BEGIN:VTIMEZONE
TZID:America/Los_Angeles
BEGIN:DAYLIGHT
TZOFFSETFROM:-0800
TZOFFSETTO:-0700
TZNAME:PDT
DTSTART:20260308T100000
END:DAYLIGHT
BEGIN:STANDARD
TZOFFSETFROM:-0700
TZOFFSETTO:-0800
TZNAME:PST
DTSTART:20261101T090000
END:STANDARD
END:VTIMEZONE
BEGIN:VEVENT
DTSTART;VALUE=DATE:20260615
DTEND;VALUE=DATE:20260616
DTSTAMP:20260422T152628
CREATED:20260422T182300Z
LAST-MODIFIED:20260422T182300Z
UID:15406-1781481600-1781567999@blog.greatergiving.com
SUMMARY:AFP Genesee Valley
DESCRIPTION:The AFP Genesee Valley Chapter invites you to our 2026 Annual Regional Conference on Monday\, June 15\, 2026\, at the Hyatt Regency\, where we’re rolling up our sleeves for Hard Hats Required: Fundraisers at Work. \nThis year’s conference is all about the real work behind effective fundraising—building smart strategies\, strengthening relationships\, and putting ideas into action. You’ll hear from leaders in the field\, learn what’s working right now\, and walk away with practical tools you can use immediately. Whether you’re a seasoned development professional\, a nonprofit leader\, or growing your fundraising career\, join us for a day of learning\, connection\, and momentum—and get ready to get back to work inspired. \nWho should attend? \nThis conference is for fundraising professionals\, nonprofit leaders\, board members\, and volunteers who support resource development. Whether you’re new to the field or have years of experience\, you’ll find practical ideas you can use in your work. If you want to learn what’s working in fundraising and connect with others in the field\, this conference is for you. \nLunch & keynote-only option \nCan’t join us for the full day? You’re invited to be part of one of the most anticipated moments of the conference. \nWe’re offering a special ticket for those who want to connect with colleagues and hear directly from AFP Global Board Chair Roger D. Ali\, MBA\, CFRE\, as he shares Leading Lightly: What Matters Most in Times of Change. \nThis option is ideal for CEOs\, executive directors\, board leaders\, and community partners who want insight into today’s fundraising landscape and the opportunity to engage with fellow nonprofit leaders—without committing to a full day of sessions. \nTicket Prices \nFull-Day: Members $199 | Non-Members $215\nLunch & Keynote ONLY: $50 per person | $500 for table of 10
URL:https://blog.greatergiving.com/event/afp-genesee-valley/
LOCATION:Hyatt Regency Rochester\, 125 E Main St\, Rochester\, NY\, 14604\, United States
CATEGORIES:Conferences & Trade Shows
ATTACH;FMTTYPE=image/jpeg:https://blog.greatergiving.com/wp-content/uploads/2026/04/2026-Conference-Banner.jpg
END:VEVENT
BEGIN:VEVENT
DTSTART;VALUE=DATE:20260622
DTEND;VALUE=DATE:20260625
DTSTAMP:20260422T152628
CREATED:20260422T182735Z
LAST-MODIFIED:20260422T182735Z
UID:15410-1782086400-1782345599@blog.greatergiving.com
SUMMARY:Planet Philanthropy
DESCRIPTION:Get ready for an incredible gathering of passionate fundraisers from Miami to Jacksonville\, Pensacola to Orlando\, Tampa\, and everywhere in between! This conference is a magnet for fundraising professionals from across the nation! We’re thrilled to welcome more than 300 dynamic non-profit leaders from a diverse array of organizations—social services\, education\, health\, religious groups\, the arts\, and so much more! Join us as we dive into the latest and greatest resources designed to elevate your knowledge and skills. Don’t miss out on this amazing opportunity to connect\, learn\, and grow together!
URL:https://blog.greatergiving.com/event/planet-philanthropy-2/
LOCATION:Sunseeker Resort\, 5500 Sunseeker Way\, Charlotte Harbor\, FL\, 33980\, United States
CATEGORIES:Conferences & Trade Shows
ATTACH;FMTTYPE=image/jpeg:https://blog.greatergiving.com/wp-content/uploads/2026/04/1750694648622.jpg
END:VEVENT
END:VCALENDAR