BEGIN:VCALENDAR
VERSION:2.0
PRODID:-//Greater Giving Blog - ECPv5.16.2.1//NONSGML v1.0//EN
CALSCALE:GREGORIAN
METHOD:PUBLISH
X-ORIGINAL-URL:https://blog.greatergiving.com
X-WR-CALDESC:Events for Greater Giving Blog
REFRESH-INTERVAL;VALUE=DURATION:PT1H
X-Robots-Tag:noindex
X-PUBLISHED-TTL:PT1H
BEGIN:VTIMEZONE
TZID:America/Los_Angeles
BEGIN:DAYLIGHT
TZOFFSETFROM:-0800
TZOFFSETTO:-0700
TZNAME:PDT
DTSTART:20230312T100000
END:DAYLIGHT
BEGIN:STANDARD
TZOFFSETFROM:-0700
TZOFFSETTO:-0800
TZNAME:PST
DTSTART:20231105T090000
END:STANDARD
END:VTIMEZONE
BEGIN:VEVENT
DTSTART;TZID=America/Los_Angeles:20230712T110000
DTEND;TZID=America/Los_Angeles:20230712T120000
DTSTAMP:20260423T152941
CREATED:20230621T205708Z
LAST-MODIFIED:20230621T205708Z
UID:13591-1689159600-1689163200@blog.greatergiving.com
SUMMARY:Webinar: Rallying Your Fundraising Board
DESCRIPTION:Scott Jones of Raising Paddles joins Greater Giving to discuss the fundraising cycle through the eyes of a Professional Auctioneer and Senior Consultant. In this webinar you will discover four key strategies and takeaways for securing financial gifts from your prospects\, and how to move your valuable donors up the ladder to higher giving levels\, all while rallying your fundraising board. \nThe Key Strategies Include:\n1. Culture of Philanthropy\n2. Donor Centric\n3. Cultivation\n4. Stewardship \nThe Key Takeaways Include:\n1. Create a strategic plan on who should attend your special event.\n2. Design creative means to secure at least 50% of your fundraising goal through pre-committed gifts and attendee wealth screenings.\n3. Develop a stewardship plan that will keep your donors giving year after year.\n4. Learn effective strategies that will ensure meeting fundraising goals and board inclusion.
URL:https://blog.greatergiving.com/event/webinar-rallying-your-fundraising-board/
LOCATION:Webinar\, Online
CATEGORIES:Webinar
ATTACH;FMTTYPE=image/png:https://blog.greatergiving.com/wp-content/uploads/2023/06/Copy-of-Copy-of-Webinar_Website-4.png
END:VEVENT
END:VCALENDAR