BEGIN:VCALENDAR
VERSION:2.0
PRODID:-//Greater Giving Blog - ECPv5.16.2.1//NONSGML v1.0//EN
CALSCALE:GREGORIAN
METHOD:PUBLISH
X-WR-CALNAME:Greater Giving Blog
X-ORIGINAL-URL:https://blog.greatergiving.com
X-WR-CALDESC:Events for Greater Giving Blog
REFRESH-INTERVAL;VALUE=DURATION:PT1H
X-Robots-Tag:noindex
X-PUBLISHED-TTL:PT1H
BEGIN:VTIMEZONE
TZID:America/Los_Angeles
BEGIN:DAYLIGHT
TZOFFSETFROM:-0800
TZOFFSETTO:-0700
TZNAME:PDT
DTSTART:20200308T100000
END:DAYLIGHT
BEGIN:STANDARD
TZOFFSETFROM:-0700
TZOFFSETTO:-0800
TZNAME:PST
DTSTART:20201101T090000
END:STANDARD
END:VTIMEZONE
BEGIN:VEVENT
DTSTART;TZID=America/Los_Angeles:20201202T110000
DTEND;TZID=America/Los_Angeles:20201202T120000
DTSTAMP:20260422T194802
CREATED:20201111T205040Z
LAST-MODIFIED:20201202T214917Z
UID:11291-1606906800-1606910400@blog.greatergiving.com
SUMMARY:Webinar: From Virtual to Hybrid-Planning into 2021 and Ahead
DESCRIPTION:From Virtual to Hybrid-Planning into 2021 and Ahead\nSPECIAL GUEST: Samantha Swaim\, Swaim Strategies \nWhat has the world of online virtual events taught us\, what do we carry into the future and how do we plan for the return of the gala? This webinar will look at some of the key findings from virtual events and help you plan your calendar. Learn how to execute a hybrid event and create a plan for managing the unknown turns ahead. \nLive Webinar – Wednesday\, December 2nd\, 2020\n2:00 pm-3:00 pm Eastern / 11:00 am – 12:00 pm Pacific\n*Can’t attend live? Register anyway and receive the recording after the webinar!\nYour Presenter:\nSamantha Swaim\, Swaim Strategies\nSamantha Swaim has more than 20 years of event planning and fundraising expertise. She founded Swaim Strategies\, a fundraising event consultancy\, in 2004\, working internationally with nonprofit organizations to produce impactful events that move missions forward. Samantha is the co-author of “Planning a Successful Major Donor Event” and the founder of the annual Elevate fundraising event conference. She travels internationally to teach nonprofit professionals the tools they need to elevate their impact through events. \n\n \nThis Webinar is available on-demand—watch it now! 
URL:https://blog.greatergiving.com/event/webinar-from-virtual-to-hybrid-planning-into-2021-and-ahead/
CATEGORIES:Webinar
END:VEVENT
END:VCALENDAR