BEGIN:VCALENDAR
VERSION:2.0
PRODID:-//Greater Giving Blog - ECPv5.16.2.1//NONSGML v1.0//EN
CALSCALE:GREGORIAN
METHOD:PUBLISH
X-WR-CALNAME:Greater Giving Blog
X-ORIGINAL-URL:https://blog.greatergiving.com
X-WR-CALDESC:Events for Greater Giving Blog
REFRESH-INTERVAL;VALUE=DURATION:PT1H
X-Robots-Tag:noindex
X-PUBLISHED-TTL:PT1H
BEGIN:VTIMEZONE
TZID:America/Los_Angeles
BEGIN:DAYLIGHT
TZOFFSETFROM:-0800
TZOFFSETTO:-0700
TZNAME:PDT
DTSTART:20200308T100000
END:DAYLIGHT
BEGIN:STANDARD
TZOFFSETFROM:-0700
TZOFFSETTO:-0800
TZNAME:PST
DTSTART:20201101T090000
END:STANDARD
END:VTIMEZONE
BEGIN:VEVENT
DTSTART;TZID=America/Los_Angeles:20200520T100000
DTEND;TZID=America/Los_Angeles:20200520T110000
DTSTAMP:20260420T015309
CREATED:20200514T192610Z
LAST-MODIFIED:20200514T192609Z
UID:11052-1589968800-1589972400@blog.greatergiving.com
SUMMARY:Get the Data for Virtual Events + Online Auctions
DESCRIPTION:Wednesday\, May 20\, 2020 | 1-2 PM EDT | 10-11 AM PDT \nGreater Giving is excited to host a panel of experts who have successfully hosted virtual fundraising events over the past few weeks. They’ve collected great data to share and some evolving expectations around upcoming fall fundraising. Let us know what you’re most curious to learn more about by registering below! \nOur Panelists: \n\n\nBeven Byrnes\, Bridges Middle School\nTaylor Gibson\, Children’s Book Bank\nBrian Harris\, The AV Department\nTracey Lorts\, Greater Giving\nSamantha Swaim\, Swaim Strategies\n\nRegistration is limited on the Zoom call. If you are unable to join\, we will also be streaming the session live to the Greater Giving Facebook page.
URL:https://blog.greatergiving.com/event/get-the-data-for-virtual-events-online-auctions/
CATEGORIES:Webinar
END:VEVENT
END:VCALENDAR