BEGIN:VCALENDAR
VERSION:2.0
PRODID:-//Greater Giving Blog - ECPv5.16.2.1//NONSGML v1.0//EN
CALSCALE:GREGORIAN
METHOD:PUBLISH
X-WR-CALNAME:Greater Giving Blog
X-ORIGINAL-URL:https://blog.greatergiving.com
X-WR-CALDESC:Events for Greater Giving Blog
REFRESH-INTERVAL;VALUE=DURATION:PT1H
X-Robots-Tag:noindex
X-PUBLISHED-TTL:PT1H
BEGIN:VTIMEZONE
TZID:America/Los_Angeles
BEGIN:DAYLIGHT
TZOFFSETFROM:-0800
TZOFFSETTO:-0700
TZNAME:PDT
DTSTART:20250309T100000
END:DAYLIGHT
BEGIN:STANDARD
TZOFFSETFROM:-0700
TZOFFSETTO:-0800
TZNAME:PST
DTSTART:20251102T090000
END:STANDARD
BEGIN:DAYLIGHT
TZOFFSETFROM:-0800
TZOFFSETTO:-0700
TZNAME:PDT
DTSTART:20260308T100000
END:DAYLIGHT
BEGIN:STANDARD
TZOFFSETFROM:-0700
TZOFFSETTO:-0800
TZNAME:PST
DTSTART:20261101T090000
END:STANDARD
END:VTIMEZONE
BEGIN:VEVENT
DTSTART;VALUE=DATE:20250613
DTEND;VALUE=DATE:20250614
DTSTAMP:20260422T111142
CREATED:20250410T181105Z
LAST-MODIFIED:20250410T181105Z
UID:15147-1749772800-1749859199@blog.greatergiving.com
SUMMARY:Fundraising Day in New York
DESCRIPTION:Dive into the premier one-day conference in the world of philanthropy\, Fundraising Day in New York! Whether you’re just starting out or a seasoned pro\, you’ll find a vibrant mix of sessions covering the entire spectrum of fundraising\, from the latest trends to emerging innovations. These sessions are carefully crafted and delivered by renowned leaders and experts who are at the forefront of the industry. \nConnect with a passionate community of over 1\,000 fundraisers\, all eager to share insights\, build relationships\, and grow their expertise together. This is where the heart of philanthropic collaboration beats strong. \nDon’t miss our Sponsor/Exhibitor area\, an essential part of the FRDNY experience! Here\, businesses\, consulting services\, and educational programs proudly display their offerings at exhibitor tables. Throughout the day\, you can network with top professionals on the bustling 6th and 7th floors\, making valuable connections and discovering new opportunities. \nJoin us and be part of something extraordinary!
URL:https://blog.greatergiving.com/event/fundraising-day-in-new-york/
LOCATION:New York Marriott Marquis\, 1535 Broadway\, New York\, NY\, 10036\, United States
CATEGORIES:Conferences & Trade Shows
ATTACH;FMTTYPE=image/png:https://blog.greatergiving.com/wp-content/uploads/2025/04/3719_FRDNY_Conference_2025_728x90_d1.png
ORGANIZER;CN="AFP%20NYC":MAILTO:admin@nycafp.org
END:VEVENT
BEGIN:VEVENT
DTSTART;VALUE=DATE:20260426
DTEND;VALUE=DATE:20260429
DTSTAMP:20260422T111142
CREATED:20260422T175956Z
LAST-MODIFIED:20260422T175956Z
UID:15382-1777161600-1777420799@blog.greatergiving.com
SUMMARY:AFP Icon 2026
DESCRIPTION:Join us in San Diego\, April 26-28\, at the world’s No. 1 fundraising conference\, bringing together over 3\,000 fundraising professionals for three dynamic days of learning\, networking\, and growt \n\n\n\n\n\n\n\n\n\n\nStop by Booth #318 for something useful!\n\n\n\n\n\n\n\n\n\n\n\n\n\n\nCreate your own Event Night Survival Kit\, packed with must-haves to keep you calm\, collected\, and ready for anything your next fundraiser throws your way. We’ll be serving Happy Hour Drink Tickets on Monday\, and we’ll have a few fun giveaways you can enter while you’re visiting.\n\n\nWhile you’re at Booth #318\, let’s talk about how Greater Giving can help you:\n\n\n\n\nStreamline your event from start to finish\nElevate guest experience\nMaximize revenue with smarter tools and strategy\n\n\n\n\nWhether you’re planning your next gala\, auction\, or golf tournament we’ll show you how to shine on event night.
URL:https://blog.greatergiving.com/event/afp-icon-2026/
LOCATION:San Diego Convention Center\, 111 Harbor Dr\, San Diego\, CA\, 92101\, United States
CATEGORIES:Conferences & Trade Shows
ATTACH;FMTTYPE=image/png:https://blog.greatergiving.com/wp-content/uploads/2026/04/GRT480-Soc-Med-Booth-V2-1080x1080-1.png
END:VEVENT
BEGIN:VEVENT
DTSTART;VALUE=DATE:20260427
DTEND;VALUE=DATE:20260502
DTSTAMP:20260422T111142
CREATED:20260422T180307Z
LAST-MODIFIED:20260422T180307Z
UID:15386-1777248000-1777679999@blog.greatergiving.com
SUMMARY:BGCA National
DESCRIPTION:Boys & Girls Clubs of America’s National Conference is the premier and largest gathering of the organization each year. For the 120th year\, thousands of dedicated executives\, board members\, professional staff and partners from Boys & Girls Clubs across the country and around the globe will gather in-person to learn\, celebrate and connect with each other. Its core focus is the collective impact of our mission when we all work together for our nation’s young people. The conference begins with our Military Leadership Institute on Monday\, April 27\, and concludes with a celebration of our Movement on Friday\, May 1. \nEVENT HIGHLIGHTS \nIn 2026\, the Boys & Girls Club Movement has several exciting anniversaries to celebrate: \n\nThe year 2026 marks the 120th convening of Boys & Girls Clubs of America’s National Conference.\nThe Boys & Girls Club Movement’s 166-year history will be celebrated at a Friday evening gala.\nThis year marks the 35th anniversary of Boys & Girls Clubs of America’s partnership with the United States military\, ensuring a Club experience is available to youth on every American military base in the world.\n\nThis year’s event will feature: \n\n3\,000+ attendees\nConference exhibitors\nYouth/Club performances\n5K run/walk\nNotable keynote speakers and breakout learning sessions\nAlumni Hall of Fame Ceremony and nationally recognized entertainment
URL:https://blog.greatergiving.com/event/bgca-national/
LOCATION:Charlotte Convention Center\, 501 South College Street\, Charlotte\, NC\, 28202\, United States
CATEGORIES:Conferences & Trade Shows
ATTACH;FMTTYPE=image/jpeg:https://blog.greatergiving.com/wp-content/uploads/2026/04/f90161c3294c4f65a5a20b32358c5ddb_29ecec438e50f12a88002adb63676659.jpg
END:VEVENT
BEGIN:VEVENT
DTSTART;VALUE=DATE:20260506
DTEND;VALUE=DATE:20260510
DTSTAMP:20260422T111142
CREATED:20260422T180841Z
LAST-MODIFIED:20260422T180841Z
UID:15390-1778025600-1778371199@blog.greatergiving.com
SUMMARY:NAYDO
DESCRIPTION:NAYDO Conference\nNorth American YMCA Development Organization\, in partnership with YMCA of the USA and YMCA Canada\, inspires and strengthens the philanthropic culture of the YMCA. \n\n\n\n\n\n\n\nAnchored in purpose\, the NAYDO 2026 schedule brings together inspiring speakers\, focused tracks\, and generous sponsors.
URL:https://blog.greatergiving.com/event/naydo/
LOCATION:Long Beach Convention and Entertainment Center\, 300 E Ocean Blvd\, Long Beach\, CA\, 90802\, United States
CATEGORIES:Conferences & Trade Shows
ATTACH;FMTTYPE=image/webp:https://blog.greatergiving.com/wp-content/uploads/2026/04/anchoredlogo-1755642261.webp
END:VEVENT
END:VCALENDAR