BEGIN:VCALENDAR
VERSION:2.0
PRODID:-//Greater Giving Blog - ECPv5.16.2.1//NONSGML v1.0//EN
CALSCALE:GREGORIAN
METHOD:PUBLISH
X-WR-CALNAME:Greater Giving Blog
X-ORIGINAL-URL:https://blog.greatergiving.com
X-WR-CALDESC:Events for Greater Giving Blog
REFRESH-INTERVAL;VALUE=DURATION:PT1H
X-Robots-Tag:noindex
X-PUBLISHED-TTL:PT1H
BEGIN:VTIMEZONE
TZID:America/Los_Angeles
BEGIN:DAYLIGHT
TZOFFSETFROM:-0800
TZOFFSETTO:-0700
TZNAME:PDT
DTSTART:20240310T100000
END:DAYLIGHT
BEGIN:STANDARD
TZOFFSETFROM:-0700
TZOFFSETTO:-0800
TZNAME:PST
DTSTART:20241103T090000
END:STANDARD
END:VTIMEZONE
BEGIN:VEVENT
DTSTART;VALUE=DATE:20240603
DTEND;VALUE=DATE:20240606
DTSTAMP:20260422T214805
CREATED:20240213T180834Z
LAST-MODIFIED:20240213T180834Z
UID:14266-1717372800-1717631999@blog.greatergiving.com
SUMMARY:AFP Florida Planet Philanthropy
DESCRIPTION:Planet Philanthropy is the premier fundraising conference for Florida! \nAttendees come from Miami to Jacksonville\, Pensacola to Orlando and Tampa\, and everywhere in between! The conference also attracts fundraisers from all over the country and Puerto Rico. Annually\, more than 300 nonprofit leaders from various organizations ranging from social services\, education\, health\, religion\, the arts\, and much more will join us to learn about the latest and greatest resources to enhance their knowledge and skills. \nMonday\, June 3\, 2024 – Wednesday\, June 5\, 2024\nThe Rosen Centre – Orlando\, FL
URL:https://blog.greatergiving.com/event/afp-florida-planet-philanthropy/
LOCATION:Rosen Centre Hotel\, 9840 International Drive\, Orlando\, FL\, 32819\, United States
CATEGORIES:Conferences & Trade Shows
ATTACH;FMTTYPE=image/jpeg:https://blog.greatergiving.com/wp-content/uploads/2024/02/354563543_639694044861280_8326598575966450941_n.jpg
END:VEVENT
END:VCALENDAR