BEGIN:VCALENDAR
VERSION:2.0
PRODID:-//Greater Giving Blog - ECPv5.16.2.1//NONSGML v1.0//EN
CALSCALE:GREGORIAN
METHOD:PUBLISH
X-ORIGINAL-URL:https://blog.greatergiving.com
X-WR-CALDESC:Events for Greater Giving Blog
REFRESH-INTERVAL;VALUE=DURATION:PT1H
X-Robots-Tag:noindex
X-PUBLISHED-TTL:PT1H
BEGIN:VTIMEZONE
TZID:America/Los_Angeles
BEGIN:DAYLIGHT
TZOFFSETFROM:-0800
TZOFFSETTO:-0700
TZNAME:PDT
DTSTART:20240310T100000
END:DAYLIGHT
BEGIN:STANDARD
TZOFFSETFROM:-0700
TZOFFSETTO:-0800
TZNAME:PST
DTSTART:20241103T090000
END:STANDARD
END:VTIMEZONE
BEGIN:VEVENT
DTSTART;TZID=America/Los_Angeles:20240522T110000
DTEND;TZID=America/Los_Angeles:20240522T120000
DTSTAMP:20260422T194705
CREATED:20240228T234906Z
LAST-MODIFIED:20240228T235120Z
UID:14324-1716375600-1716379200@blog.greatergiving.com
SUMMARY:WEBINAR: Secure Unforgettable Items for your Next Fundraiser
DESCRIPTION:Whether you’re organizing a charity gala\, school event\, or community fundraiser\, this webinar is your golden ticket to success. Discover the art of persuasion\, networking tips\, and creative strategies to secure generous food and auction item donations that will make your fundraiser unforgettable. Don’t miss out on this opportunity to learn from the pros from Greater Giving and Hannah Yang\, CEO & Founder of The Shareway\, and boost your fundraising efforts. Grab your spot now and let’s make your next event a fundraising triumph! \nLearning Objectives: \n\nWhat are good channels for procuring auction items\nHow to make the ask and what materials you’ll need\nHow to save time and increase your success rate\nHow to build good relationships with donors
URL:https://blog.greatergiving.com/event/secure-unforgettable-items-for-your-next-fundraiser/
LOCATION:Webinar\, Online
CATEGORIES:Webinar
ATTACH;FMTTYPE=image/png:https://blog.greatergiving.com/wp-content/uploads/2024/02/Untitled-design-25.png
END:VEVENT
END:VCALENDAR