BEGIN:VCALENDAR
VERSION:2.0
PRODID:-//Greater Giving Blog - ECPv5.16.2.1//NONSGML v1.0//EN
CALSCALE:GREGORIAN
METHOD:PUBLISH
X-ORIGINAL-URL:https://blog.greatergiving.com
X-WR-CALDESC:Events for Greater Giving Blog
REFRESH-INTERVAL;VALUE=DURATION:PT1H
X-Robots-Tag:noindex
X-PUBLISHED-TTL:PT1H
BEGIN:VTIMEZONE
TZID:America/Los_Angeles
BEGIN:DAYLIGHT
TZOFFSETFROM:-0800
TZOFFSETTO:-0700
TZNAME:PDT
DTSTART:20200308T100000
END:DAYLIGHT
BEGIN:STANDARD
TZOFFSETFROM:-0700
TZOFFSETTO:-0800
TZNAME:PST
DTSTART:20201101T090000
END:STANDARD
END:VTIMEZONE
BEGIN:VEVENT
DTSTART;TZID=America/Los_Angeles:20200130T100000
DTEND;TZID=America/Los_Angeles:20200130T110000
DTSTAMP:20260420T233901
CREATED:20200128T165850Z
LAST-MODIFIED:20200128T165903Z
UID:10890-1580378400-1580382000@blog.greatergiving.com
SUMMARY:What's New Webinar | Greater Giving
DESCRIPTION:Join our “What’s New Webinar” on Thurs. 1/30 10am PST to find out about the latest Greater Giving release.\nWe’re excited to share new features that will maximize your sponsorship and revenue dollars\, along with our latest market trend resources!
URL:https://blog.greatergiving.com/event/whats-new-webinar-greater-giving/
CATEGORIES:Webinar
END:VEVENT
END:VCALENDAR