BEGIN:VCALENDAR
VERSION:2.0
PRODID:-//Greater Giving Blog - ECPv5.16.2.1//NONSGML v1.0//EN
CALSCALE:GREGORIAN
METHOD:PUBLISH
X-ORIGINAL-URL:https://blog.greatergiving.com
X-WR-CALDESC:Events for Greater Giving Blog
REFRESH-INTERVAL;VALUE=DURATION:PT1H
X-Robots-Tag:noindex
X-PUBLISHED-TTL:PT1H
BEGIN:VTIMEZONE
TZID:America/Los_Angeles
BEGIN:DAYLIGHT
TZOFFSETFROM:-0800
TZOFFSETTO:-0700
TZNAME:PDT
DTSTART:20180311T100000
END:DAYLIGHT
BEGIN:STANDARD
TZOFFSETFROM:-0700
TZOFFSETTO:-0800
TZNAME:PST
DTSTART:20181104T090000
END:STANDARD
END:VTIMEZONE
BEGIN:VEVENT
DTSTART;VALUE=DATE:20180625
DTEND;VALUE=DATE:20180629
DTSTAMP:20260422T230814
CREATED:20180627T222740Z
LAST-MODIFIED:20180627T222740Z
UID:9847-1529884800-1530230399@blog.greatergiving.com
SUMMARY:Bigger Impact-2018 Big Brothers Big Sisters of America National Conference
DESCRIPTION:Big Brothers Big Sisters staff\, visit us at… \nBigger Impact! \nJune 25-28\, 2018 \nMarriot St. Louis Grand – St. Louis\, MO \nStop by and visit with Lisa and Stephanie in booth 23! They will be demonstrating Greater Giving Online Bidding and Go Time.  You’ll learn about the latest fundraising trends for 2018. And they will also have Auction Planners\, giveaways and enter to win an Amazon gift card! \n#BBBSTogether
URL:https://blog.greatergiving.com/event/bigger-impact-2018-big-brothers-big-sisters-of-america-national-conference/
LOCATION:Marriott St. Louis Grand\, 800 Washington Ave\, St. Louis\, MO\, 63101\, United States
CATEGORIES:Conferences & Trade Shows
END:VEVENT
BEGIN:VEVENT
DTSTART;TZID=America/Los_Angeles:20180628T083000
DTEND;TZID=America/Los_Angeles:20180628T130000
DTSTAMP:20260422T230814
CREATED:20180508T203413Z
LAST-MODIFIED:20180514T182753Z
UID:9525-1530174600-1530190800@blog.greatergiving.com
SUMMARY:Event Counseling with the Experts Seminar - Seattle\, WA
DESCRIPTION:A customized\, interactive fundraising workshop \nYour organization faces many unique challenges in the planning and execution of your fundraising events. Fundraising experts\, Graham Crow and Tim Leahy want to learn about your specific events and tailor this workshop to your desires and needs. After registering\, you’ll be able to complete a survey about your event and exactly what you’d like Graham and Tim to discuss during the seminar. \n\nDIY Content\nThis session will feature the things you most want to learn! After registration\, you will be sent a survey so we can learn all about your organization and the specific content you’d like to hear more about at the seminar.\n\nDuring this custom seminar\, you will learn about: \n\nStreamlining check-in and check-out\nNew\, and proven revenue-generating ideas\nThe importance of knowing your event attendees/donors — what they expect and what they like\nOur experts’ five event-must-haves\n\nRegistration Fee: $19.95 \n*Includes lunch \nPresenters:\n\nGraham Crow\, Graham Crow Benefit Auctions  For the past 27 years\, Graham Crow has been working with schools\, charities\, and organizations all over the United States and Canada\, raising more than 75 million dollars through benefit auctions. His philosophy of encouraging people to “spend more than you had planned\, but to feel really good about doing so\,” has made him one of the most sought-after auctioneers in North America. He has never met an auction he didn’t love. \nTim Leahy\, Leahy Benefit Auction Services Tim Leahy’s warmth\, professional style\, and sense of humor set the stage for your Auction guests to have a fun-filled and enjoyable evening while bidding very generously. He takes a personal interest in the financial and entertainment success of your event. He only services benefit auctions and works diligently to generate the maximum dollars to support your charities. Tim is a master at working with large or small auction committees while providing as much or little pre-auction support as each auction chair requests. Tim is equally talented at helping new auction chairs holding their first auction\, or established auctions that need to generate substantial revenue for the continued success of the charity.
URL:https://blog.greatergiving.com/event/event-counseling-with-the-experts-seminar-seattle-wa/
LOCATION:Mercer Island Community Event Center\, 8236 SE 24th St\, Mercer Island\, WA\, 98040\, United States
CATEGORIES:Seminar
END:VEVENT
END:VCALENDAR