BEGIN:VCALENDAR
VERSION:2.0
PRODID:-//Greater Giving Blog - ECPv5.16.2.1//NONSGML v1.0//EN
CALSCALE:GREGORIAN
METHOD:PUBLISH
X-ORIGINAL-URL:https://blog.greatergiving.com
X-WR-CALDESC:Events for Greater Giving Blog
REFRESH-INTERVAL;VALUE=DURATION:PT1H
X-Robots-Tag:noindex
X-PUBLISHED-TTL:PT1H
BEGIN:VTIMEZONE
TZID:America/Los_Angeles
BEGIN:DAYLIGHT
TZOFFSETFROM:-0800
TZOFFSETTO:-0700
TZNAME:PDT
DTSTART:20150308T100000
END:DAYLIGHT
BEGIN:STANDARD
TZOFFSETFROM:-0700
TZOFFSETTO:-0800
TZNAME:PST
DTSTART:20151101T090000
END:STANDARD
END:VTIMEZONE
BEGIN:VEVENT
DTSTART;TZID=America/Los_Angeles:20150921T090000
DTEND;TZID=America/Los_Angeles:20150921T123000
DTSTAMP:20260422T114236
CREATED:20150827T172021Z
LAST-MODIFIED:20150827T190740Z
UID:2166-1442826000-1442838600@blog.greatergiving.com
SUMMARY:Meetup: Tampa\, FL
DESCRIPTION:We’ll Show You an Easier Way to Bid at Events. \nGreater Giving is excited to be touring Florida to give you an inside look at how our mobile bidding can maximize your organization’s fundraising success. Register and bring your smartphone or tablet for one of two time slots for our in-person demo auction. Experience Greater Giving Mobile Bidding and Go Time event night solutions first-hand alongside your Area Marketing Manager\, Karla Ford and Senior Director of Customer Success\, John Chase. \nWe’ll cover Best Practices for Mobile Bidding Events like: \n\nCreating and staging mobile bidding packages\nStrategies on event night texts\nEffective mobile bidding sponsorships\n\nJoin us Monday September 21st in Tampa at the Tampa Bay History Center!
URL:https://blog.greatergiving.com/event/meetup-tampa-fl/
LOCATION:Tampa Bay History Center\, 801 Old Water St.\, Tampa\, FL\, 33602\, United States
CATEGORIES:Open House
END:VEVENT
END:VCALENDAR