BEGIN:VCALENDAR
VERSION:2.0
PRODID:-//Greater Giving Blog - ECPv5.16.2.1//NONSGML v1.0//EN
CALSCALE:GREGORIAN
METHOD:PUBLISH
X-WR-CALNAME:Greater Giving Blog
X-ORIGINAL-URL:https://blog.greatergiving.com
X-WR-CALDESC:Events for Greater Giving Blog
REFRESH-INTERVAL;VALUE=DURATION:PT1H
X-Robots-Tag:noindex
X-PUBLISHED-TTL:PT1H
BEGIN:VTIMEZONE
TZID:America/Los_Angeles
BEGIN:DAYLIGHT
TZOFFSETFROM:-0800
TZOFFSETTO:-0700
TZNAME:PDT
DTSTART:20150308T100000
END:DAYLIGHT
BEGIN:STANDARD
TZOFFSETFROM:-0700
TZOFFSETTO:-0800
TZNAME:PST
DTSTART:20151101T090000
END:STANDARD
END:VTIMEZONE
BEGIN:VEVENT
DTSTART;VALUE=DATE:20150612
DTEND;VALUE=DATE:20150613
DTSTAMP:20260420T141712
CREATED:20150514T183652Z
LAST-MODIFIED:20150604T135233Z
UID:1820-1434067200-1434153599@blog.greatergiving.com
SUMMARY:AFP 2015 DFW Philanthropy in Action Conference
DESCRIPTION:Join us at the Philanthropy in Action Conference AFP 2015 DFW \nFriday\, June 12\, 2015 – Irving\, TX \nDo you want to improve your donors’ experience\, digitalize fundraising efforts\, and increase your revenue? \nCome see us at AFP 2015 DFW Philanthropy in Action Conference – Booth 8 \nAt booth 8\, we’ll demonstrate Greater Giving Mobile Bidding and Go Time\, and you’ll learn about the latest fundraising trends for 2015. We will also have Auction Planners\, Best Practices for Mobile Bidding Events\, giveaways and enter to win a $100 Amazon gift card! \nConference Location: \nIrving Convention Center\n500 West Las Colinas Blvd\nIrving\, TX 75039\nFind out more here. \n We look forward to seeing you in Texas!
URL:https://blog.greatergiving.com/event/afp-2015-dfw-philanthropy-in-action-conference/
LOCATION:Irving Convention Center\, 500 West Las Colinas Blvd\, Irving\, TX\, 75039\, United States
END:VEVENT
END:VCALENDAR